BEGIN:VCALENDAR
METHOD:PUBLISH
VERSION:2.0
PRODID:-//WoltLab GmbH//WoltLab Suite Calendar 5.4//EN
CALSCALE:GREGORIAN
X-WR-CALNAME;VALUE=TEXT:Legend of the Five Rings 3rd - a Yokai War - Der er
 ste Tag (geschlossene Runde\, Anmeldung erforderlich)
BEGIN:VEVENT
TRANSP:OPAQUE
UID:event-86@sonntagshelden.de
URL:https://sonntagshelden.de/calendar/event/665-legend-of-the-five-rings-3
 rd-a-yokai-war-der-erste-tag-geschlossene-runde-anmeld/
DTSTART:20180902T120000Z
DTSTAMP:20180902T120000Z
CREATED:20180902T120000Z
SUMMARY:Legend of the Five Rings 3rd - a Yokai War - Der erste Tag (geschlo
 ssene Runde\, Anmeldung erforderlich)
DESCRIPTION:Da ist er nun ...\n\nDer erste Tag\n\nDer erste Tag vom Rest de
 s Lebens eurer Charaktere.\n\n\nEs steht die Charakterfertigstellung und ei
 n kurzes Spiel an.
LOCATION:Amendestraße 41\, 13409 Berlin\, Deutschland
GEO:52.5703888;13.3738003
DTEND:20180902T170000Z
CATEGORIES:Spielrunde,Legend of the Five Rings,Yokai War
END:VEVENT
END:VCALENDAR
