BEGIN:VCALENDAR
METHOD:PUBLISH
VERSION:2.0
PRODID:-//WoltLab GmbH//WoltLab Suite Calendar 5.4//EN
CALSCALE:GREGORIAN
X-WR-CALNAME;VALUE=TEXT:DSA Angbar
BEGIN:VEVENT
TRANSP:OPAQUE
UID:event-85@sonntagshelden.de
URL:https://sonntagshelden.de/calendar/event/664-dsa-angbar/
DTSTART:20180824T173000Z
DTSTAMP:20180824T173000Z
CREATED:20180824T173000Z
SUMMARY:DSA Angbar
DTEND:20180824T213000Z
END:VEVENT
END:VCALENDAR
