BEGIN:VCALENDAR
METHOD:PUBLISH
VERSION:2.0
PRODID:-//WoltLab GmbH//WoltLab Suite Calendar 5.4//EN
CALSCALE:GREGORIAN
X-WR-CALNAME;VALUE=TEXT:Trail of Cthulhu: The Rending Box (OneShot)
BEGIN:VEVENT
TRANSP:OPAQUE
UID:event-73@sonntagshelden.de
URL:https://sonntagshelden.de/calendar/event/652-trail-of-cthulhu-the-rendi
 ng-box-oneshot/
DTSTART:20180615T170000Z
DTSTAMP:20180615T170000Z
CREATED:20180615T170000Z
SUMMARY:Trail of Cthulhu: The Rending Box (OneShot)
DESCRIPTION:Neuer Versuch: Trail of Cthulhu-OneShot [EDIT:] am 15.06? [URL:
 https://sonntagshelden.de/forum/thread/137-neuer-versuch-trail-of-cthulhu-o
 neshot-edit-am-15-06/]
LOCATION:Amendestraße 41\, 13409 Berlin\, Deutschland
GEO:52.5703888;13.3738003
DTEND:20180615T215900Z
END:VEVENT
END:VCALENDAR
