BEGIN:VCALENDAR
METHOD:PUBLISH
VERSION:2.0
PRODID:-//WoltLab GmbH//WoltLab Suite Calendar 5.4//EN
CALSCALE:GREGORIAN
X-WR-CALNAME;VALUE=TEXT:DSA 4.1 Kennenlernen und zwanglose Impro :-)
BEGIN:VEVENT
TRANSP:OPAQUE
UID:event-70@sonntagshelden.de
URL:https://sonntagshelden.de/calendar/event/649-dsa-4-1-kennenlernen-und-z
 wanglose-impro/
DTSTART:20180629T170000Z
DTSTAMP:20180629T170000Z
CREATED:20180629T170000Z
SUMMARY:DSA 4.1 Kennenlernen und zwanglose Impro :-)
DESCRIPTION:DSA 4.1\nErster Termin\nGemeinsamer Blick auf die SC und dann z
 wangloses Losspielen  :)
LOCATION:Amendestraße 41\, 13409 Berlin\, Deutschland
GEO:52.5703888;13.3738003
DTEND:20180629T210000Z
END:VEVENT
END:VCALENDAR
