BEGIN:VCALENDAR
METHOD:PUBLISH
VERSION:2.0
PRODID:-//WoltLab GmbH//WoltLab Suite Calendar 5.4//EN
CALSCALE:GREGORIAN
X-WR-CALNAME;VALUE=TEXT:StarWars D6 – Händler und Söldner
BEGIN:VEVENT
TRANSP:OPAQUE
UID:event-6@sonntagshelden.de
URL:https://sonntagshelden.de/calendar/event/6-starwars-d6-h%C3%A4ndler-und
 -s%C3%B6ldner/
DTSTART:20180128T163000Z
DTSTAMP:20180128T163000Z
CREATED:20180128T163000Z
SUMMARY:StarWars D6 – Händler und Söldner
DESCRIPTION:Achtung\, bitte beachtet die geänderte Adresse!
LOCATION:Amendestraße 41\, 13409 Berlin\, Deutschland
GEO:52.5703888;13.3738003
DTEND:20180128T220000Z
END:VEVENT
END:VCALENDAR
