BEGIN:VCALENDAR
METHOD:PUBLISH
VERSION:2.0
PRODID:-//WoltLab GmbH//WoltLab Suite Calendar 5.4//EN
CALSCALE:GREGORIAN
X-WR-CALNAME;VALUE=TEXT:Shadow of the Weird Wizard
BEGIN:VEVENT
TRANSP:OPAQUE
UID:event-580@sonntagshelden.de
URL:https://sonntagshelden.de/calendar/event/11125-shadow-of-the-weird-wiza
 rd/
DTSTART:20260523T130000Z
DTSTAMP:20260523T130000Z
CREATED:20260523T130000Z
SUMMARY:Shadow of the Weird Wizard
DTEND:20260523T180000Z
END:VEVENT
END:VCALENDAR
