BEGIN:VCALENDAR
METHOD:PUBLISH
VERSION:2.0
PRODID:-//WoltLab GmbH//WoltLab Suite Calendar 5.4//EN
CALSCALE:GREGORIAN
X-WR-CALNAME;VALUE=TEXT:CyberPunk 2.0.2.0. - Der Datenkurier (offene Spielr
 unde)
BEGIN:VEVENT
TRANSP:OPAQUE
UID:event-58@sonntagshelden.de
URL:https://sonntagshelden.de/calendar/event/637-cyberpunk-2-0-2-0-der-date
 nkurier-offene-spielrunde/
DTSTART:20180420T170000Z
DTSTAMP:20180420T170000Z
CREATED:20180420T170000Z
SUMMARY:CyberPunk 2.0.2.0. - Der Datenkurier (offene Spielrunde)
DESCRIPTION:Dieser Johnny Irgendwer hat echte Probleme.\nHacker\, Yakuza un
 d dann auch noch Konzernsoldaten.\nScheinbar hat dieser Johnny jemandem zie
 mlich auf die Füße getreten.\nDoch das alles ist eigentlich völlig egal\, d
 enn Johnny zahlt gut - und das sollte er auch besser.\n\nEs ist nun an Dir 
 Johnny zu schützen und seine Ware zu ihrem Ziel zu bringen.\n\n\n(Diese Sto
 ry ist lose durch die Kurzgeschichte Johnny Mnemonic inspiriert.)
LOCATION:Amendestraße 41\, 13409 Berlin\, Deutschland
GEO:52.5703888;13.3738003
DTEND:20180420T215900Z
CATEGORIES:Spielrunde,Spontanrunde,CyberPunk
END:VEVENT
END:VCALENDAR
