BEGIN:VCALENDAR
METHOD:PUBLISH
VERSION:2.0
PRODID:-//WoltLab GmbH//WoltLab Suite Calendar 5.4//EN
CALSCALE:GREGORIAN
X-WR-CALNAME;VALUE=TEXT:Shadow of the Weird Wizard
BEGIN:VEVENT
TRANSP:OPAQUE
UID:event-579@sonntagshelden.de
URL:https://sonntagshelden.de/calendar/event/11115-shadow-of-the-weird-wiza
 rd/
DTSTART:20260228T140000Z
DTSTAMP:20260228T140000Z
CREATED:20260228T140000Z
SUMMARY:Shadow of the Weird Wizard
DESCRIPTION:
DTEND:20260228T190000Z
RRULE:FREQ=MONTHLY;INTERVAL=1;BYDAY=-1SA;WKST=MO;UNTIL=20261130
END:VEVENT
END:VCALENDAR
