BEGIN:VCALENDAR
METHOD:PUBLISH
VERSION:2.0
PRODID:-//WoltLab GmbH//WoltLab Suite Calendar 5.4//EN
CALSCALE:GREGORIAN
X-WR-CALNAME;VALUE=TEXT:Rollenspiel zwischen den Jahren
BEGIN:VEVENT
TRANSP:TRANSPARENT
UID:event-542@sonntagshelden.de
URL:https://sonntagshelden.de/calendar/event/10682-rollenspiel-zwischen-den
 -jahren/
DTSTART;VALUE=DATE:20231227
DTSTAMP:20231227T000000Z
CREATED:20231227T000000Z
SUMMARY:Rollenspiel zwischen den Jahren
DESCRIPTION:Hej Leute\,\n\ndie SonntagsHelden haben wieder Raum und möchten
  euch daher in diesem Jahr gerne wieder\n\nRollenspiel zwischen den Jahren 
 anbieten\n\n... und zwar in echt\, am Tisch und Face to Face.  \;) \n\n\nIm
  Rahmen diesen Angebots könnt ihr natürlich wie gewohnt\, an den Tagen zwis
 chen Weihnachten und Sylvester\, bei unterschiedlichen Spielleitenden die v
 erschiedensten Rollenspiel mitspielen und/oder ausprobieren.\n\nAm . 27.12.
  . ab . 17:00 . bei . Jay . . . Spire -- The City Must Fall [URL:https://so
 nntagshelden.de/calendar/event/10685-spire-the-city-must-fall/]\n\nAm . 28.
 12. . ab . 16:30 . bei . Niels . . . Shadowrun 6 -- The Humanis Policlub To
 ok My Baby Away [URL:https://sonntagshelden.de/calendar/event/10683-shadowr
 un-6-the-humanis-policlub-took-my-baby-away/]\n\nAm . 29.12. . ab . 18:00 .
  bei . Søren . . . Mörk Borg -- Der Kelch der Wünsche [URL:https://sonntags
 helden.de/calendar/event/10686-m%C3%B6rk-borg-der-kelch-der-w%C3%BCnsche/]\
 n\nAm . 30.12. . ab .  15:00 . bei . Søren . . . PbtA -- Wie tötet man eine
 n Gott? [URL:https://sonntagshelden.de/calendar/event/10684-wie-t%C3%B6tet-
 man-einen-gott-powered-by-the-apocalypse/]\n\n\nDie Spielrundenteilnahme is
 t kostenfrei\, aber ihr müßtet euch für die jeweilige Spielrunde in dem daz
 ugehörigen Termin anmelden.\n(Wir müssen uns nämlich erst wieder neu organi
 sieren\, weshalb eine spontane Teilnahme dieses Mal leider nicht funktionie
 rt.)\n\nSolltet ihr erst später zu einer Spielrunde kommen können oder früh
 er wieder los müssen solltet\, nutzt bitte die Kommentarfunktion im jeweili
 gen Termin!\n\nWenn ihr zu einer Spielrunde doch nicht kommen könnt\, bitte
 n wir euch\, euch aus dem Termin auch wieder abzumelden\, damit sich gegebe
 nenfalls andere Spielende anmelden oder Spielleitende sehen können\, ob die
  Runde überhaupt zustande kommen wird.\n(Wieviele Spielende für eine Spielr
 unde mindestens notwendig sind\, könnt ihr auch aus den entsprechenden Term
 in entnehmen\, da dies von den Spielleitenden individuell bestimmt wird.)\n
 \n\nIhr könnt wie immer selbst Getränke und Verpflegung mitbringen\, Kaffee
 \, Tee\, Wasser und einige Snacks werden von den SonntagsHelden für kleines
  Geld angeboten\,\nAlkohol und andere Drogen sind dagegen strikt nicht gest
 attet!\n(Rauchende können vor der Tür qualmen\, werden aber gebeten\, ihre 
 Spielrunde nicht mit Zigarettenatem zu belästigen und die Kippenreste wiede
 r mit zu nehmen\, da vor der Tür keinen Aschenbecher vorhanden ist.)\n\n\nI
 n diesem Sinne\,\nBis Denn:  eure SonntagsHelden\n\n... und wenn wir uns ni
 cht sehen\, kommt gut ins neue Jahre.  \;)
LOCATION:Vierwaldstätter Weg 16\, 13407 Berlin\, Deutschland
GEO:52.5630722;13.3587952
DTEND;VALUE=DATE:20231231
CATEGORIES:SonntagsHelden,Rollenspiel,convention,OneShots
END:VEVENT
END:VCALENDAR
