BEGIN:VCALENDAR
METHOD:PUBLISH
VERSION:2.0
PRODID:-//WoltLab GmbH//WoltLab Suite Calendar 5.4//EN
CALSCALE:GREGORIAN
X-WR-CALNAME;VALUE=TEXT:Twisted Habits - a Tuesday DnDish in English One Sh
 ot
BEGIN:VEVENT
TRANSP:OPAQUE
UID:event-540@sonntagshelden.de
URL:https://sonntagshelden.de/calendar/event/10680-twisted-habits-a-tuesday
 -dndish-in-english-one-shot/
DTSTART:20231114T190000Z
DTSTAMP:20231114T190000Z
CREATED:20231114T190000Z
SUMMARY:Twisted Habits - a Tuesday DnDish in English One Shot
DESCRIPTION:A group of pilgrims wind their way through a dark and perilous 
 forest. Their goal? The holy monastery deep in the mountains\, where holy r
 elics can be found\, and desperate prayers might be answered.  Tired\, sick
 \, hopeful or crazy\, they plod along and YOU walk with them also\, perhaps
  also driven by piety\, perhaps through caution against following this dark
  road alone\, or perhaps the rumble of your stomach and lightness of your e
 mpty purse has put you in service to the pilgrims. Will the events of your 
 journey be as dark as the brooding wilds around you?  Will the legendary sa
 nctuary you approach bring you close to the divine\, or instead drag you in
 to its darkest secrets?\n\nTwisted Habits is a D&D 5E Adventure for 1st lev
 el player characters.\n\nWe will play on Roll20 Tuesday 14th of November fr
 om 8 to 11 pm.  If we don't finish\, we would play the following Tuesday\, 
 November 21st to complete play.\n\nIf you're interested in playing with us\
 , you might be interested in joining our Tuesday DnDish in English group.  
 See the pitch for the group formation here: Tuesday D&D-ish in Engl-ish [UR
 L:https://sonntagshelden.de/forum/thread/687-tuesday-d-d-ish-in-engl-ish/] 
   There is a player survey\, and informal introductions happening beforehan
 d\, so please get in touch as soon as you are able.\n\nAll are welcome\, bu
 t women and people less represented in role playing games are especially in
 vited to apply!
DTEND:20231114T220000Z
END:VEVENT
END:VCALENDAR
