BEGIN:VCALENDAR
METHOD:PUBLISH
VERSION:2.0
PRODID:-//WoltLab GmbH//WoltLab Suite Calendar 5.4//EN
CALSCALE:GREGORIAN
X-WR-CALNAME;VALUE=TEXT:Alien RPG(Free League Publishing)\, Bellum Internum
BEGIN:VEVENT
TRANSP:OPAQUE
UID:event-527@sonntagshelden.de
URL:https://sonntagshelden.de/calendar/event/10653-alien-rpg-free-league-pu
 blishing-bellum-internum/
DTSTART:20221229T180000Z
DTSTAMP:20221229T180000Z
CREATED:20221229T180000Z
SUMMARY:Alien RPG(Free League Publishing)\, Bellum Internum
DESCRIPTION:Planet Z248\n\nNach einem Empfangenen Notruf landet euer Schiff
  auf dem neuem Kolonialplanet der UA\, kein Kontakt zur Kolonie\, und das S
 chiff von welchem das Signal kommt schickt auf einem Weyland Yutani Kanal. 
 Beim Landen sieht man einige der Module der Station brennen\, und ein Wrack
  eines Weyland Yutani Schiffes. \n\n\nGespielt wird Alien von Free League\,
  Charactere sind vorgefertigt\, und koennen noch leicht geändert werden.\n\
 nTriggerwarning:\nGewalt\, Aliens\, Parasiten\, Leid\, Waffen\, Spielende g
 egen Spielende\, Tod
DTEND:20221229T220000Z
STATUS:CANCELLED
CATEGORIES:Horror,Gore
END:VEVENT
END:VCALENDAR
