BEGIN:VCALENDAR
METHOD:PUBLISH
VERSION:2.0
PRODID:-//WoltLab GmbH//WoltLab Suite Calendar 5.4//EN
CALSCALE:GREGORIAN
X-WR-CALNAME;VALUE=TEXT:Shadowrun 5 - Berlin 2077A
BEGIN:VEVENT
TRANSP:OPAQUE
UID:event-443@sonntagshelden.de
URL:https://sonntagshelden.de/calendar/event/7888-shadowrun-5-berlin-2077a/
DTSTART:20210613T130000Z
DTSTAMP:20210613T130000Z
CREATED:20210613T130000Z
SUMMARY:Shadowrun 5 - Berlin 2077A
DESCRIPTION:Hej Chummer\,\nwar ja eine Weile ziemlich still\, aber vielleic
 ht interessiert Dich der neue Job?!\n\n\n\nWie hört sich das an:\n\n>> Hej 
 Leute\,\nich suche Runner\, die für mich meine Schwester aus den Fängen ein
 es Puppenspielhauses heraus holen.\nDie schlechte Nachricht ist\, daß der S
 chuppen den Grzimeks gehört.\nDie guten Nachrichten dagegen sind\, daß sich
  keiner über Ruhestörung beschweren wird und daß es für jeden Akteur 6.500 
 NuYen gibt.  :-)  <<\n- Kickinballs [11-06-2077|12:51:31]\n\nOuttime-Infos:
 \nDiese Shadowrun-Runde findet im Zusammenhang mit der Berlin2077A-Kampagne
  statt.\nEs handelt sich bei diesem Run um eine einfache Rettungsmission\, 
 bei der es zwar etwas auf Fingerspitzengefühl ankommt\, aber ansonsten jede
 s Vorgehen funktionieren kann.\n\nOffen für 2 - 5 Spieler\, gerne ohne Vore
 rfahrung\, gerne auch mit. Keine speziellen Charaktere bevorzugt.\nAnmeldun
 g direkt an mich\, Søren\, per PM mit fertigem Charakterbogen. (Ich berücks
 ichtige nur Anmeldungen für Charaktere\, die vor dem 11.6. eingereicht wurd
 en.)
LOCATION:Discord
DTEND:20210613T190000Z
STATUS:CANCELLED
CATEGORIES:Berlin,Shadowrun,Berlin 2077A
END:VEVENT
END:VCALENDAR
