BEGIN:VCALENDAR
METHOD:PUBLISH
VERSION:2.0
PRODID:-//WoltLab GmbH//WoltLab Suite Calendar 5.4//EN
CALSCALE:GREGORIAN
X-WR-CALNAME;VALUE=TEXT:Shadowrun 5 - Berlin 2077A
BEGIN:VEVENT
TRANSP:OPAQUE
UID:event-437@sonntagshelden.de
URL:https://sonntagshelden.de/calendar/event/7882-shadowrun-5-berlin-2077a/
DTSTART:20210510T163000Z
DTSTAMP:20210510T163000Z
CREATED:20210510T163000Z
SUMMARY:Shadowrun 5 - Berlin 2077A
DESCRIPTION:Hej Chummer\,\nhabe gehört Du suchst einen Job.\n\n\n\nWie hört
  sich das an:\n\n>> Ja\, Hallo erstmal.\nIch suche für so'n ökosoziales Pro
 jekt ein paar Leute\, die für mich am 10.5. ein paar Vorbereitungen überneh
 men.\nIhr müßte auch gar nicht so viel können. Hauptsache\, ihr könnt euch 
 ein bißchen in das Umfeld einfügen beziehungsweise an das jeweilige Kliente
 l anpassen - und ganz eventuell und nur gegebenenfalls ein bißchen aktivist
 isch tätig werden.\nGeld gibt's dann 12.000 Mark und nochmal 3.000 Mark\, w
 enn ihr aktiv werden müßt! <<\n- Christian Grünfried [07-05-2077|23:55:37]\
 n\nOuttime-Infos:\nDiese Shadowrun-Runde findet im Zusammenhang mit der Ber
 lin2077A-Kampagne statt.\nEs soll sich bei dieser Mission um einen einfache
 n Run handeln\, der hauptsächlich in den Bereich Überwachung und gegebenenf
 alls in den Bereich Vandalismus fällt.\n\nOffen für 2 - 5 Spieler\, gerne o
 hne Vorerfahrung\, gerne auch mit. Keine speziellen Charaktere bevorzugt.\n
 Anmeldung direkt an mich\, Søren\, per PM mit fertigem Charakterbogen. (Ich
  berücksichtige nur Anmeldungen für Charaktere\, die vor dem 9.5. eingereic
 ht wurden.)
LOCATION:Discord
DTEND:20210510T210000Z
CATEGORIES:Berlin,Shadowrun,Berlin 2077A
END:VEVENT
END:VCALENDAR
