BEGIN:VCALENDAR
METHOD:PUBLISH
VERSION:2.0
PRODID:-//WoltLab GmbH//WoltLab Suite Calendar 5.4//EN
CALSCALE:GREGORIAN
X-WR-CALNAME;VALUE=TEXT:(OLGA)Scholomance Revised - Nekromantie für Schulan
 fänger
BEGIN:VEVENT
TRANSP:OPAQUE
UID:event-428@sonntagshelden.de
URL:https://sonntagshelden.de/calendar/event/7840-olga-scholomance-revised-
 nekromantie-f%C3%BCr-schulanf%C3%A4nger/
DTSTART:20210403T170000Z
DTSTAMP:20210403T170000Z
CREATED:20210403T170000Z
SUMMARY:(OLGA)Scholomance Revised - Nekromantie für Schulanfänger
DESCRIPTION:Die Scholomance ist die einzige Zauberschule für böse Magienutz
 enden und jene die es werden sollen.\nAuch wenn die meisten von euch hier U
 nfreiwillig sind\, raus aus der Schule kommt man nur mit Abschluss oder als
  Leiche\, wobei beim letzterem fremde Klassen und die Fakultät dich gerne u
 nterstützt.\n\nWir starten nachdem ihr an der Scholomance angekommen seid\,
  und bespielen den Nekromantie Kurs von Doktorin Braskowitschkow die auch e
 ure Klassenlehrerin ist.\n\nWürfelloses Spielsystem was auf Wetten basiert.
 \n\nLines und Veils werden von den Spielenden vorort bestimmt\, auch die X 
 Karte wird verwendet.\n\nTriggerwarning: Schule(Mobbing\, Pausen-stechereie
 n\, Peerpressure etc)\, Blut\, Kontrollverlust\,\n\nPlatz für 4 Spielende\,
 \nAnmeldung hier im Termin.
DTEND:20210403T210000Z
END:VEVENT
END:VCALENDAR
