BEGIN:VCALENDAR
METHOD:PUBLISH
VERSION:2.0
PRODID:-//WoltLab GmbH//WoltLab Suite Calendar 5.4//EN
CALSCALE:GREGORIAN
X-WR-CALNAME;VALUE=TEXT:Dust of stanislav- one shot ( Weiterführung)
BEGIN:VEVENT
TRANSP:OPAQUE
UID:event-389@sonntagshelden.de
URL:https://sonntagshelden.de/calendar/event/7348-dust-of-stanislav-one-sho
 t-weiterf%C3%BChrung/
DTSTART:20210113T181300Z
DTSTAMP:20210113T181300Z
CREATED:20210113T181300Z
SUMMARY:Dust of stanislav- one shot ( Weiterführung)
DESCRIPTION:Der one shot geht in die nächste Runde und dasChaos geht weiter
 .\n\nAlle Teilnehmer dürfen auf 12 aufleveln  \;)
LOCATION:Online roll20
DTEND:20210113T225900Z
CATEGORIES:DnD,D&D 5e
END:VEVENT
END:VCALENDAR
