BEGIN:VCALENDAR
METHOD:PUBLISH
VERSION:2.0
PRODID:-//WoltLab GmbH//WoltLab Suite Calendar 5.4//EN
CALSCALE:GREGORIAN
X-WR-CALNAME;VALUE=TEXT:Call of Cthulhu \"In der Tinte\"
BEGIN:VEVENT
TRANSP:OPAQUE
UID:event-382@sonntagshelden.de
URL:https://sonntagshelden.de/calendar/event/7341-call-of-cthulhu-in-der-ti
 nte/
DTSTART:20201113T183000Z
DTSTAMP:20201113T183000Z
CREATED:20201113T183000Z
SUMMARY:Call of Cthulhu \"In der Tinte\"
DESCRIPTION:02.10.1923\n\nHistorisch einzigartige Dokumente\, welche der Mi
 skatonik Universität anvertraut wurden sind verschwunden.\nDer mit der Über
 prüfung\, Schätzung und Kategorisierung beauftragte Dozent Charles Leiter i
 st leider unerwartet an Herzversagen gestorben.\n\nDie Investigatoren haben
  den Auftrag angenommen.
DTEND:20201113T225900Z
STATUS:CANCELLED
END:VEVENT
END:VCALENDAR
