BEGIN:VCALENDAR
METHOD:PUBLISH
VERSION:2.0
PRODID:-//WoltLab GmbH//WoltLab Suite Calendar 5.4//EN
CALSCALE:GREGORIAN
X-WR-CALNAME;VALUE=TEXT:offenes TableTop Angebot am 18.10.20
BEGIN:VEVENT
TRANSP:OPAQUE
UID:event-377@sonntagshelden.de
URL:https://sonntagshelden.de/calendar/event/6838-offenes-tabletop-angebot-
 am-18-10-20/
DTSTART:20201018T110000Z
DTSTAMP:20201018T110000Z
CREATED:20201018T110000Z
SUMMARY:offenes TableTop Angebot am 18.10.20
DESCRIPTION:Dank der Tatsache\, das eine Terraforming-Runde angeboten wird 
 findet nun auch am 18ten Oktober wieder ein offenes TableTop-Angebot statt.
 \n\nJeder mit Interesse kann gerne vorbeikommen\, es gibt definitiv wieder 
 Demo/Testrunde für Warhammer 40K ( werde ein paar weitere Armeen dabei habe
 n ) und sehr wahrscheinlich auch SAG und Tomahawk&Muskete.\n\nFalls jemand 
 mitspielen möchte am besten vorher Bescheid geben\, damit ich besser planen
  kann.\n\nAnsonsten gilt unter den coronabedingten Vereinsbeschränkungen - 
 jeder Interessierte ist herzlich willkommen  :-)
LOCATION:KreativFabrik\, Amendestraße 41
DTEND:20201018T180000Z
STATUS:CANCELLED
END:VEVENT
END:VCALENDAR
