BEGIN:VCALENDAR
METHOD:PUBLISH
VERSION:2.0
PRODID:-//WoltLab GmbH//WoltLab Suite Calendar 5.4//EN
CALSCALE:GREGORIAN
X-WR-CALNAME;VALUE=TEXT:DnD 5* - Bartersville [Abschlußrunde]
BEGIN:VEVENT
TRANSP:OPAQUE
UID:event-363@sonntagshelden.de
URL:https://sonntagshelden.de/calendar/event/6823-dnd-5-bartersville-abschl
 u%C3%9Frunde/
DTSTART:20200905T110000Z
DTSTAMP:20200905T110000Z
CREATED:20200905T110000Z
SUMMARY:DnD 5* - Bartersville [Abschlußrunde]
DESCRIPTION:ACHTUNG! Dies ist die Abschlußspielrunde!\nNeuanmeldungen sind 
 dazu leider nicht mehr möglich!\nWer noch was zur Kampagne lesen mag\, scha
 ut doch einfach mal hier -> Dungeons & Dragons 5th - Bartersville [URL:http
 s://sonntagshelden.de/forum/board/42-dungeons-dragons-5th-bartersville/]
LOCATION:Amendestraße 41\, 13409 Berlin\, Deutschland
GEO:52.5703888;13.3738003
DTEND:20200905T180000Z
CATEGORIES:Spielrunde,DnD,Bartersville,Sandbox
END:VEVENT
END:VCALENDAR
