BEGIN:VCALENDAR
METHOD:PUBLISH
VERSION:2.0
PRODID:-//WoltLab GmbH//WoltLab Suite Calendar 5.4//EN
CALSCALE:GREGORIAN
X-WR-CALNAME;VALUE=TEXT:Kleine private Runde vom Søren
BEGIN:VEVENT
TRANSP:OPAQUE
UID:event-362@sonntagshelden.de
URL:https://sonntagshelden.de/calendar/event/6822-kleine-private-runde-vom-
 s%C3%B8ren/
DTSTART:20200920T110000Z
DTSTAMP:20200920T110000Z
CREATED:20200920T110000Z
SUMMARY:Kleine private Runde vom Søren
DESCRIPTION:Dies ist nur eine kleine private Runde von mir\, weil ich sowie
 so im Haus sein müßte ...
LOCATION:Amendestraße 41\, 13409 Berlin\, Deutschland
GEO:52.5703812;13.3738241
DTEND:20200920T180000Z
END:VEVENT
END:VCALENDAR
