BEGIN:VCALENDAR
METHOD:PUBLISH
VERSION:2.0
PRODID:-//WoltLab GmbH//WoltLab Suite Calendar 5.4//EN
CALSCALE:GREGORIAN
X-WR-CALNAME;VALUE=TEXT:D&D 5E Im Namen der Königin DISCORD AUSWEICHTERMIN
BEGIN:VEVENT
TRANSP:OPAQUE
UID:event-361@sonntagshelden.de
URL:https://sonntagshelden.de/calendar/event/6821-d-d-5e-im-namen-der-k%C3%
 B6nigin-discord-ausweichtermin/
DTSTART:20200823T180000Z
DTSTAMP:20200823T180000Z
CREATED:20200823T180000Z
SUMMARY:D&D 5E Im Namen der Königin DISCORD AUSWEICHTERMIN
DESCRIPTION:Ausweichtermin für die \"Im Namen der Königin\" Runde. Wird im 
 Discord\, also online\, stattfinden.
LOCATION:DISCORD
DTEND:20200823T215900Z
CATEGORIES:D&D5E
END:VEVENT
END:VCALENDAR
