BEGIN:VCALENDAR
METHOD:PUBLISH
VERSION:2.0
PRODID:-//WoltLab GmbH//WoltLab Suite Calendar 5.4//EN
CALSCALE:GREGORIAN
X-WR-CALNAME;VALUE=TEXT:Campus-Wolves - eine Runde um Gestaltwandler und Dn
 D-Nerds
BEGIN:VEVENT
TRANSP:OPAQUE
UID:event-356@sonntagshelden.de
URL:https://sonntagshelden.de/calendar/event/6348-campus-wolves-eine-runde-
 um-gestaltwandler-und-dnd-nerds/
DTSTART:20200830T120000Z
DTSTAMP:20200830T120000Z
CREATED:20200830T120000Z
SUMMARY:Campus-Wolves - eine Runde um Gestaltwandler und DnD-Nerds
DESCRIPTION:Spielrunde für 3 bis 5 Spieler.\n\nEine Voranmeldung ist dringe
 nd notwendig!\n\n\nTeaser:\n\"Ihr seid nun schon einige Monate Studenten an
  dem kleinen\, unscheinbaren Dawnton College and University in der kleinen\
 , unbekannten\, amerikanischen Stadt Dawnton\, die eigentlich so friedlich 
 ist\, daß es schon wieder unheimlich ist ...\"\n\n\"Leider seid ihr nicht g
 erade das\, was man die coolen Kids nennen würde und konntet bisher entspre
 chend auch noch keine der drei Campus-Verbindungen für euch gewinnen\, was 
 dazu führte\, daß ihr schließlich im Fantasy-Buch-Club versackt seid.\nFant
 asy-Buch-Club.\nEin anderer Begriff für Sammelbecken für Nerds und Rollensp
 ieler ...\"\n\n\"Ach ja\, auch ihr seid Rollenspieler ...\" (Also\, auch di
 e Charaktere sind Rollenspieler ...  \;)  )\n\n\nInfo:\nRegelkenntnis ist n
 icht notwendig\, jedoch die Bereitschaft zu intensivem Rollenspiel\, etwas 
 Leidensfähigkeit bezüglich des Charakters (ihr glaubt ja gar nicht\, wie vi
 el Werwesen in der World of Darkness aushalten  \;)  ) und schließlich auch
  die Fähigkeit\, sich persönlich nicht zuu wichtig nehmen zu können.  8) \n
 \n\nCharakter-Infos:\nCharaktere werden gestellt und können dann vor Ort au
 sgewählt werden.\nEine Beschreibung der einzelnen Charaktere gibt es hier -
 > Campus-Wolves - Werewolf the Apocalypse (Spielrunde für 3 bis 5 Spieler) 
 [URL:https://sonntagshelden.de/forum/thread/448-campus-wolves-werewolf-the-
 apocalypse-spielrunde-f%C3%BCr-3-bis-5-spieler/?postID=5032#post5032]
LOCATION:Amendestraße 41\, 13409 Berlin\, Deutschland
GEO:52.5703812;13.3738241
DTEND:20200830T180000Z
RRULE:FREQ=WEEKLY;INTERVAL=2;BYDAY=SU;WKST=MO;COUNT=2
CATEGORIES:World of Darkness,Oneshot,Dungeons and Dragons,Werewolf the Apoc
 alypse
END:VEVENT
END:VCALENDAR
