BEGIN:VCALENDAR
METHOD:PUBLISH
VERSION:2.0
PRODID:-//WoltLab GmbH//WoltLab Suite Calendar 5.4//EN
CALSCALE:GREGORIAN
X-WR-CALNAME;VALUE=TEXT:D&D 5E Im Namen der Königin S3: Vargrath
BEGIN:VEVENT
TRANSP:OPAQUE
UID:event-355@sonntagshelden.de
URL:https://sonntagshelden.de/calendar/event/5895-d-d-5e-im-namen-der-k%C3%
 B6nigin-s3-vargrath/
DTSTART:20200821T171500Z
DTSTAMP:20200821T171500Z
CREATED:20200821T171500Z
SUMMARY:D&D 5E Im Namen der Königin S3: Vargrath
DTEND:20200821T215900Z
RRULE:FREQ=WEEKLY;INTERVAL=2;BYDAY=FR;WKST=MO
CATEGORIES:D&D5E
END:VEVENT
END:VCALENDAR
