BEGIN:VCALENDAR
METHOD:PUBLISH
VERSION:2.0
PRODID:-//WoltLab GmbH//WoltLab Suite Calendar 5.4//EN
CALSCALE:GREGORIAN
X-WR-CALNAME;VALUE=TEXT:Watch the Skies - von Aliens und internationalen Ve
 rwicklungen - das Megagame
BEGIN:VEVENT
TRANSP:OPAQUE
UID:event-343@sonntagshelden.de
URL:https://sonntagshelden.de/calendar/event/4957-watch-the-skies-von-alien
 s-und-internationalen-verwicklungen-das-megagame/
DTSTART:20201010T080000Z
DTSTAMP:20201010T080000Z
CREATED:20201010T080000Z
SUMMARY:Watch the Skies - von Aliens und internationalen Verwicklungen - da
 s Megagame
DESCRIPTION:Was würde passieren\, wenn Aliens die Erde besuchen? Würden sie
  mit friedlichen Absichten kommen oder mit gezogener Waffe? Wie werden die 
 Regierungen der Erde reagieren? Entscheide du mit und Spiele aufseiten der 
 Erdlinge oder als dubioser Alien in Watch the Skies Berlin\, dem Megagame.\
 n\nWas ist ein Megagame?\n\n\nEin Megagame ist eine Kategorie von Planspiel
 en\, die in England entwickelt wurde. Schlüsselpunkte sind hier\, dass jede
 r Teilnehmer eine tragende Position innerhalb einer Mannschaft hat und das 
 die Mannschaften durch die Interaktion untereinander den Ablauf des Spiels 
 beeinflussen.\n\nDie Rollen\n\n\nDas Spielgeschehen wird dynamisch durch di
 e Interaktionen der 3 Gruppen beeinflusst\, die an dem Spiel teilnehmen. Di
 ese sind:\nDie Regierungen der Erde\, bestehend aus jeweils einem Staatsobe
 rhaupt\, Verteidigungs-\, Außen- und Wissenschaftsminister.\nJeder dieser 4
  Spieler hat eine Rolle\, die mit einem eigenen Set an Möglichkeiten und Fä
 higkeiten verbunden ist. Während der Wissenschaftsminister die Forschungsbe
 mühungen rund um das Auftreten der Aliens managed und neue Forschungen in A
 uftrag gibt\, kümmert sich der Außenminister um die Beziehungen zu den ande
 ren Staaten und repräsentiert sein Land bei den Vereinten Nationen (UN).\n\
 nDer Verteidigungsminister ist für den Einsatz der Militäreinheiten und and
 erer aktiver Mittel verantwortlich und das Staatsoberhaupt führt all diese 
 Aktivitäten zusammen und trifft in letzter Instanz die Entscheidungen zum W
 ohle seines Landes.\n\nDie 4. Säule der Staaten wird durch die Reporter von
  Global News Network dargestellt. Sind sie in der Lage Intrigen aufzudecken
 \, Skandale öffentlich zu machen und die Geheimnisse hinter den Auserirdisc
 hensichtungen ans Tageslicht zu bringen?\n\nZu guter Letzt bilden die Alien
 s eine Fraktion\, die\, obwohl sie lange von der Menschheit wussten\, sich 
 dazu entschlossen haben\, jetzt der Menschheit zu präsentieren. Was werden 
 ihre Ziele sein?\nDas Megagame findet am 10.10.2020 in Berlin statt.\n\nWei
 tere Infos unter https://wtsberlin.wordpress.com/\n\nIch organisiere dieses
  Event privat\, weil ich Megagames megatoll finde. Ich würde mich freuen\, 
 mit euch dieses Erlebnis teilen zu können.\n\nDaniel Sommerer
LOCATION:Allee der Kosmonauten 170\, 12685 Berlin\, Deutschland
GEO:52.5386238;13.5615749
DTEND:20201010T150000Z
CATEGORIES:Scifi,Megagame,Planspiel
END:VEVENT
END:VCALENDAR
