BEGIN:VCALENDAR
METHOD:PUBLISH
VERSION:2.0
PRODID:-//WoltLab GmbH//WoltLab Suite Calendar 5.4//EN
CALSCALE:GREGORIAN
X-WR-CALNAME;VALUE=TEXT:Underdying Discord Spielrunde
BEGIN:VEVENT
TRANSP:OPAQUE
UID:event-340@sonntagshelden.de
URL:https://sonntagshelden.de/calendar/event/4945-underdying-discord-spielr
 unde/
DTSTART:20200502T180000Z
DTSTAMP:20200502T180000Z
CREATED:20200502T180000Z
SUMMARY:Underdying Discord Spielrunde
DESCRIPTION:Am 2.5. um 2000 biete ich bei uns im Discord das Spiel \"Undyin
 g\" an. Undying ist ein würfelloses ttrpg in dem man Jäger der Nacht\, Vamp
 ire\, spielt. Hier die Selbstbeschreibung vom Spiel selber. \n\n\n\"You are
  a predator: a vampire who stalks human prey in the night\, feasting on the
 ir blood.\nBlood is life. It’s eating\, drinking\, breathing\, and fucking\
 , all wrapped up in one little\, crimson drop. Your thirst for blood is bli
 nding and drinking it – that’s ecstasy. Feeding from prey isn’t just suckin
 g on a juice box\; it’s going to a fine restaurant.\nYou will go to any len
 gth to feed. The craving to do so is ever-present. Even when you swallow yo
 ur fill of blood\, the devil whispers in your ear\, tempting you to drink m
 ore. Go hungry and the beast takes over. The beast is the relentless beatin
 g in your lifeless heart\; it craves excess\, cruelty\, and destruction. Wh
 en the beast wins\, you lose your free will and devolve into a mindless mon
 ster. Your humanity – your connection to what it means to be human – is the
  only thing that holds the beast at bay\, and it is a flickering flame in t
 he windswept darkness. Between feast and famine\, restraint and recklessnes
 s\, a predator’s unlife offers more than an eternal\, blood-junkie existenc
 e. Immortality is the reward that awaits a predator who can balance on the 
 knife edge.\nPredators are the apex: the union of man’s scheming ingenuity 
 and beast’s instinctive ferocity. Though man and lesser creatures are sheep
  to the wolf\, the wolf is among a pack of wolves. And in this pack\, the m
 ost cunning and ruthless is the alpha. All predators envy that power and pr
 estige. They nip at each other nightly\, fighting over the scraps. Each hop
 es to one night rule the pack. Thus\, from the greatest predator to the lea
 st\, all are embroiled in a ceaseless conflict of intrigue and bloodshed.\n
 This is what it means to be a predator. This is Undying.\n\nUndying is a di
 celess roleplaying game about vampirism.\nUndying features player and game 
 master (GM for short) roles. Players take on the roles of deadly\, scheming
  predators\, known as player characters (PCs for short). The GM takes the r
 ole of game organizer and storytelling arbiter\, and describes a rich world
  full of sex\, violence\, and horror.\nGame play revolves around brief peri
 ods of intense conflict\, where old rivalries and new slights spark an infe
 rno\, and long stretches of intrigue\, where intricate plots are set in mot
 ion. In this crucible\, you experience conflict\, desperation\, and opportu
 nity. You will bear witness to how these conflicts changes you\, for better
  or worse. The focus in these moments is on passionate action and drama. Th
 en\, the long years unfold and selfish aims ferment. Plotting and scheming 
 over long periods of relative calm are summarized so that the narrative foc
 uses on decisive events across the gulf of time.\nWill you rise up to toppl
 e the old guard\, becoming every bit as ruthless as your predecessors?\"\n\
 nIn diesem Spiel ist recht viel frei\, bis auf die Assoziationen\, die weit
 er oben stehen. Insofern werden Setting\, Charaktere und Aufhänger von uns 
 vor Ort selber ausgedacht. Ich würde mich freuen und bis dann.\n\nMatze
DTEND:20200502T190000Z
END:VEVENT
END:VCALENDAR
