BEGIN:VCALENDAR
METHOD:PUBLISH
VERSION:2.0
PRODID:-//WoltLab GmbH//WoltLab Suite Calendar 5.4//EN
CALSCALE:GREGORIAN
X-WR-CALNAME;VALUE=TEXT:Discord-Rollenspielabend [Zusätzlicher Termin]
BEGIN:VEVENT
TRANSP:OPAQUE
UID:event-336@sonntagshelden.de
URL:https://sonntagshelden.de/calendar/event/4935-discord-rollenspielabend-
 zus%C3%A4tzlicher-termin/
DTSTART:20200411T170000Z
DTSTAMP:20200411T170000Z
CREATED:20200411T170000Z
SUMMARY:Discord-Rollenspielabend [Zusätzlicher Termin]
DESCRIPTION:Hej liebe SonntagsHelden\, Besucher und Gäste\,\n\ndurch die Co
 rona-Maßnahmen\, die nun auch uns auferlegt wurden\, haben wir einen Discor
 d-Server eingerichtet\, auf dem ihr über das Internet miteinander spielen k
 önnt.\n\nWas jeweils angeboten wird\, könnt ihr hier in den Kommentarfunkti
 onen sehen oder gegebenenfalls spontan \"vor Ort\" (freitags auf dem Sonnta
 gsHelden-Discord-Server) erfahren.\n\nDer Discord-Link ist -> https://disco
 rd.gg/GYUnDNS
DTEND:20200411T215900Z
CATEGORIES:SonntagsHelden,Rollenspiel,OnlineRPG
END:VEVENT
END:VCALENDAR
