BEGIN:VCALENDAR
METHOD:PUBLISH
VERSION:2.0
PRODID:-//WoltLab GmbH//WoltLab Suite Calendar 5.4//EN
CALSCALE:GREGORIAN
X-WR-CALNAME;VALUE=TEXT:DSA - offene Kampagne
BEGIN:VEVENT
TRANSP:OPAQUE
UID:event-331@sonntagshelden.de
URL:https://sonntagshelden.de/calendar/event/4926-dsa-offene-kampagne/
DTSTART:20200322T120000Z
DTSTAMP:20200322T120000Z
CREATED:20200322T120000Z
SUMMARY:DSA - offene Kampagne
DESCRIPTION:Fortsetzung der DSA-Kampagne.\n\nGespielt wird ein auf DSA 4.1-
 basierendes System ohne Zahlenwerte-Anmeldung hier oder direkt bei mir.
LOCATION:KreativFabrik\, Amendestraße 41
DTEND:20200322T180000Z
STATUS:CANCELLED
END:VEVENT
END:VCALENDAR
