BEGIN:VCALENDAR
METHOD:PUBLISH
VERSION:2.0
PRODID:-//WoltLab GmbH//WoltLab Suite Calendar 5.4//EN
CALSCALE:GREGORIAN
X-WR-CALNAME;VALUE=TEXT:Cthulhu Trail Now - Ikarus Season 1 Episode 3 : D43
 D4LU5
BEGIN:VEVENT
TRANSP:OPAQUE
UID:event-297@sonntagshelden.de
URL:https://sonntagshelden.de/calendar/event/4280-cthulhu-trail-now-ikarus-
 season-1-episode-3-d43d4lu5/
DTSTART:20200207T183000Z
DTSTAMP:20200207T183000Z
CREATED:20200207T183000Z
SUMMARY:Cthulhu Trail Now - Ikarus Season 1 Episode 3 : D43D4LU5
DESCRIPTION:Kurz nach dem Ansturm auf das Haus der Kultmitglieder\, konnte 
 der gesuchte Entwickler der manipulierten Pico App aufgefunden werden. Elio
 t Rodriguez befand sich im Keller in einer Art Kaverne die zum Teil mit sei
 nem eigenen Exkrementen verputzt wurde. Er selbst war auch mit den eigenen 
 teils vertrockneten Fäkalien überschmiert\, und schien stark Unterernährt.\
 n\nUnd so beginnt die nächste Folge von Ikarus mit dem Verhöhr von Eliot. D
 er vielleicht mehr weiß als das es der Warheit entspräche und was hat es nu
 n mit den gleichmäßigen Beben zu tun?\nWo befindet sich Dede Algeha? Was ve
 rfickt nochmal geht in Bielefeld ab?\n\n\nMehr zu Ikarus [URL:https://sonnt
 agshelden.de/forum/thread/339-was-ist-ikarus/]
DTEND:20200207T225900Z
END:VEVENT
END:VCALENDAR
