BEGIN:VCALENDAR
METHOD:PUBLISH
VERSION:2.0
PRODID:-//WoltLab GmbH//WoltLab Suite Calendar 5.4//EN
CALSCALE:GREGORIAN
X-WR-CALNAME;VALUE=TEXT:Terraforming Mars
BEGIN:VEVENT
TRANSP:OPAQUE
UID:event-295@sonntagshelden.de
URL:https://sonntagshelden.de/calendar/event/3811-terraforming-mars/
DTSTART:20200301T130000Z
DTSTAMP:20200301T130000Z
CREATED:20200301T130000Z
SUMMARY:Terraforming Mars
DESCRIPTION:Wie der Name schon sagt\, soll bei \"Terraforming Mars\" unser 
 Nachbarplanet bewohnbar gemacht werden.\nAls Weltraumkonzerne wettstreiten 
 wir um Resourcen\, Ruhm und vor allem Siegpunkte\, während wir Sauerstoffge
 halt und Temperatur steigern\, sowie Ozeane anlegen\, Städte und Industrien
  bauen\, Wälder pflanzen\, Tiere züchten etc. um die lebensfeindliche Umwel
 t des Mars in eine lebensfreundliche zu verwandeln.\n\nEs sind zum Basisspi
 el alle Erweiterungen vorhanden (alles auf Englisch)\, welche Kombination d
 avon wir letztlich spielen\, entscheiden wir gemeinsam.\nDas Spiel ist für 
 2-5 Mitspieler geeignet (geht auch solo\, aber das ist hier irrelevant).\n\
 n\nBis bald\nStor  8)
LOCATION:Amendestraße 41\, 13409 Berlin\, Deutschland
DTEND:20200301T190000Z
RRULE:FREQ=DAILY;INTERVAL=28;WKST=MO;UNTIL=20200329
CATEGORIES:Terraforming Mars
END:VEVENT
END:VCALENDAR
