BEGIN:VCALENDAR
METHOD:PUBLISH
VERSION:2.0
PRODID:-//WoltLab GmbH//WoltLab Suite Calendar 5.4//EN
CALSCALE:GREGORIAN
X-WR-CALNAME;VALUE=TEXT:Shadowrun - \"Eigentlich ein ganz einfacher Job ...
 \" (offener OneShot)
BEGIN:VEVENT
TRANSP:OPAQUE
UID:event-273@sonntagshelden.de
URL:https://sonntagshelden.de/calendar/event/3789-shadowrun-eigentlich-ein-
 ganz-einfacher-job-offener-oneshot/
DTSTART:20191213T180000Z
DTSTAMP:20191213T180000Z
CREATED:20191213T180000Z
SUMMARY:Shadowrun - \"Eigentlich ein ganz einfacher Job ...\" (offener OneS
 hot)
DESCRIPTION:\"Eigentlich ein ganz einfacher Job ...\"\nEine Aussage\, die m
 an in den Schatten immer wieder hört.\n... und immer wieder ist es nicht wa
 hr.\n\n\nDieses Mal soll es also wieder ein ganz einfacher Job sein.\nMiste
 r X schappen\, dessen Tagesroutine und Hintergründe bekannt sind.\n... und 
 dann auf weitere Anweisungen warten ...\n\n\nWas soll da schon schief gehen
 ?\n\n\nGespielt wird in der Allianz Deutscher Länder im Umland von Berlin u
 nd wir verwenden Shadowrun 5 mit Standard-Charakteren.\n\nDie Spielrunde be
 ginnt um 19:30\, aber wer noch Fragen hat oder einen Charakter braucht\, so
 llte schon um 19:00 da sein.\nDie Spielrunde endet um 24:00 und wenn der Ru
 n bis dahin nicht abgeschlossen ist\, ... geht wohl irgendwas schief ...
LOCATION:Amendestraße 41\, 13409 Berlin\, Deutschland
GEO:52.5703888;13.3738003
DTEND:20191213T225900Z
CATEGORIES:Berlin,Oneshot,Shadowrun
END:VEVENT
END:VCALENDAR
