BEGIN:VCALENDAR
METHOD:PUBLISH
VERSION:2.0
PRODID:-//WoltLab GmbH//WoltLab Suite Calendar 5.4//EN
CALSCALE:GREGORIAN
X-WR-CALNAME;VALUE=TEXT:SonntagsHelden Gründungstag
BEGIN:VEVENT
TRANSP:TRANSPARENT
UID:event-239@sonntagshelden.de
URL:https://sonntagshelden.de/calendar/event/3750-sonntagshelden-gr%C3%BCnd
 ungstag/
DTSTART;VALUE=DATE:20190515
DTSTAMP:20190515T000000Z
CREATED:20190515T000000Z
SUMMARY:SonntagsHelden Gründungstag
DESCRIPTION:Heute ist der Gründungstag der SonntagsHelden.\n\nAlles Gute an
  alle SonntagsHelden - die aktiven und die ehemaligen!
DTEND;VALUE=DATE:20190516
RRULE:FREQ=YEARLY;INTERVAL=1;BYMONTHDAY=15;BYMONTH=5;WKST=MO
END:VEVENT
END:VCALENDAR
