BEGIN:VCALENDAR
METHOD:PUBLISH
VERSION:2.0
PRODID:-//WoltLab GmbH//WoltLab Suite Calendar 5.4//EN
CALSCALE:GREGORIAN
X-WR-CALNAME;VALUE=TEXT:Call of Cthulhu Now (One Shot) - Von Kindern die Au
 szogen um das Fürchten zu lernen
BEGIN:VEVENT
TRANSP:OPAQUE
UID:event-214@sonntagshelden.de
URL:https://sonntagshelden.de/calendar/event/3725-call-of-cthulhu-now-one-s
 hot-von-kindern-die-auszogen-um-das-f%C3%BCrchten-zu-lernen/
DTSTART:20190901T130000Z
DTSTAMP:20190901T130000Z
CREATED:20190901T130000Z
SUMMARY:Call of Cthulhu Now (One Shot) - Von Kindern die Auszogen um das Fü
 rchten zu lernen
DESCRIPTION:Peter einer der Leute aus eurer Clique hat ein komisches Buch g
 efunden\, der Google translator erkennt Latein und verrät euch das es sich 
 um das Grimoir von Remis Thalatius handelt.\nRemis hielt hier viele Zauber 
 fest die jedoch nicht in Latein sondern in irgendeine Art von Lautschrift v
 erfasst worden sind. Nachdem ihr euch Heimlich am Stadrand in einem Waldstü
 ck getroffen  und einige der Utensilien für einen Zauber zusammengesammelt 
 habt haltet ihr die erste Messe. Nachdem das letzte Wort gesprochen wurde s
 chaut ihr euch an und könnt euch das lachen nicht verkneifen\, lächerlich w
 er an sowas glaubt......doch Peter beginnt unter krämpfen zu Boden zu versi
 nken und Blut tritt aus allen seinen Sichtbaren Körperöfffnungen..aus seine
 m Mund kommen Laute die scheinbar durch Raum und Zeit schwingen und nach je
 der gesprochenen \"Einheit\" scheint die Realität sich immer weiter zu entf
 ernen...dann endet das Schauspiel und Peter atmet seinen letzten Atemzug.\n
 \nGespielt wird Call of Cthulhu in der Gegenwart. Charaktere werden Vorort 
 erstellt. Es können auch selbst welche erstellt werden\, wichtig ist nur da
 s dann die Charaktere sich im Altersrahmen von 16-21 befinden.
DTEND:20190901T180000Z
STATUS:CANCELLED
END:VEVENT
END:VCALENDAR
