BEGIN:VCALENDAR
METHOD:PUBLISH
VERSION:2.0
PRODID:-//WoltLab GmbH//WoltLab Suite Calendar 5.4//EN
CALSCALE:GREGORIAN
X-WR-CALNAME;VALUE=TEXT:DSA Staub und Sterne - Einführungsabenteuer
BEGIN:VEVENT
TRANSP:OPAQUE
UID:event-201@sonntagshelden.de
URL:https://sonntagshelden.de/calendar/event/3707-dsa-staub-und-sterne-einf
 %C3%BChrungsabenteuer/
DTSTART:20190726T170000Z
DTSTAMP:20190726T170000Z
CREATED:20190726T170000Z
SUMMARY:DSA Staub und Sterne - Einführungsabenteuer
DESCRIPTION:Wir spielen mal außer der Reihe\, weil es so viel Spaß macht.\n
 \nSo kann Marie nochmal das Ende vom Karten ziehen miterleben
DTEND:20190726T210000Z
CATEGORIES:Anfängerfreundlich,DSA
END:VEVENT
END:VCALENDAR
