BEGIN:VCALENDAR
METHOD:PUBLISH
VERSION:2.0
PRODID:-//WoltLab GmbH//WoltLab Suite Calendar 5.4//EN
CALSCALE:GREGORIAN
X-WR-CALNAME;VALUE=TEXT:Feng Shui (1st Edition) - A Police Story  (offene S
 pielrunde)
BEGIN:VEVENT
TRANSP:OPAQUE
UID:event-192@sonntagshelden.de
URL:https://sonntagshelden.de/calendar/event/3697-feng-shui-1st-edition-a-p
 olice-story-offene-spielrunde/
DTSTART:20190712T170000Z
DTSTAMP:20190712T170000Z
CREATED:20190712T170000Z
SUMMARY:Feng Shui (1st Edition) - A Police Story  (offene Spielrunde)
DESCRIPTION:Eine (vorerst) einmalig Spielrunde mit dem Action Movie RPG Fen
 g Shui.\n\nDie Spielrunde ist auf 2 bis 6 Spieler ausgelegt\, kann aber lei
 cht und unproblematisch auf mehr Spieler erweitert werden.\n\nEine Voranmel
 dung oder Vorkenntnisse sind nicht notwendig (obwohl es natürlich vorteilha
 ft ist\, mal einen Jackie-Chan-Film gesehen zu haben  \;)  ).
LOCATION:Amendestraße 41\, 13409 Berlin\, Deutschland
GEO:52.5703888;13.3738003
DTEND:20190712T215900Z
CATEGORIES:Spielrunde,Oneshot,Feng Shui,Hong Kong Action,Pulp,Action Advent
 ure
END:VEVENT
END:VCALENDAR
