BEGIN:VCALENDAR
METHOD:PUBLISH
VERSION:2.0
PRODID:-//WoltLab GmbH//WoltLab Suite Calendar 5.4//EN
CALSCALE:GREGORIAN
X-WR-CALNAME;VALUE=TEXT:DnD 5* - Willkommen in Bartersville (offene Spielru
 nde)
BEGIN:VEVENT
TRANSP:OPAQUE
UID:event-191@sonntagshelden.de
URL:https://sonntagshelden.de/calendar/event/3696-dnd-5-willkommen-in-barte
 rsville-offene-spielrunde/
DTSTART:20190719T170000Z
DTSTAMP:20190719T170000Z
CREATED:20190719T170000Z
SUMMARY:DnD 5* - Willkommen in Bartersville (offene Spielrunde)
DESCRIPTION:Willkommen in Bartersville!\n\nDies ist eine Einführungsrunde i
 n die DnD-Kampagne von Bartersville.\nDie Runde ist für Anfänger geeignet\,
  hat allerdings einen hohen Anspruch an Charakterhintergrund\, Charaktermot
 ivationen und cineastisches Spiel.\nDa dies aber eben als Anfängerrunde kon
 zipiert ist\, wird es diverse szenische Aufhänger für unbeschwertes Losspie
 len geben.\n\nWer Interesse hat\, kann einfach vorbei kommen.  :) \n(Charak
 tere können von den Spielern mitgebracht und/oder zur Verfügung gestellt we
 rden.)\n\nSpielrundenbeginn ist für 19:00 gesetzt\, aber bis 20:00 sind Spi
 eler-/Charakterfragen fest eingeplant.\nSpielrundenende kann für jeden Spie
 ler flexibel sein. (Wer vor 24 Uhr gehen möchte\, sollte dies allerdings mö
 glichst störungsarm tun.)\n\nWer sich noch in die Kampagne einlesen mag ode
 r die Charakter-Bastel-Regeln zu dieser Kampagne noch nicht kennt\, schaut 
 doch einfach mal hier -> Dungeons & Dragons 5th - Bartersville [URL:https:/
 /sonntagshelden.de/forum/board/42-dungeons-dragons-5th-bartersville/]
LOCATION:Amendestraße 41\, 13409 Berlin\, Deutschland
GEO:52.5703888;13.3738003
DTEND:20190719T215900Z
CATEGORIES:DnD,Bartersville
END:VEVENT
END:VCALENDAR
