BEGIN:VCALENDAR
METHOD:PUBLISH
VERSION:2.0
PRODID:-//WoltLab GmbH//WoltLab Suite Calendar 5.4//EN
CALSCALE:GREGORIAN
X-WR-CALNAME;VALUE=TEXT:Spontane Spaßrunde II
BEGIN:VEVENT
TRANSP:OPAQUE
UID:event-182@sonntagshelden.de
URL:https://sonntagshelden.de/calendar/event/3687-spontane-spa%C3%9Frunde-i
 i/
DTSTART:20190531T170000Z
DTSTAMP:20190531T170000Z
CREATED:20190531T170000Z
SUMMARY:Spontane Spaßrunde II
DESCRIPTION:Hej Leute\,\n\ngestern waren wir nur mittel besucht\, also heut
 e noch mal mit einer spontanen Spaßrunde.\n\nWer zockt mit?
LOCATION:Amendestraße 41\, 13409 Berlin\, Deutschland
GEO:52.5703888;13.3738003
DTEND:20190531T215900Z
CATEGORIES:SonntagsHelden,Spaßsysteme,Spontanrunde,Oneshot
END:VEVENT
END:VCALENDAR
