BEGIN:VCALENDAR
METHOD:PUBLISH
VERSION:2.0
PRODID:-//WoltLab GmbH//WoltLab Suite Calendar 5.4//EN
CALSCALE:GREGORIAN
X-WR-CALNAME;VALUE=TEXT:D&D 5E - Helden gesucht - 1.3. in der Kreativ Fabri
 k
BEGIN:VEVENT
TRANSP:OPAQUE
UID:event-141@sonntagshelden.de
URL:https://sonntagshelden.de/calendar/event/2976-d-d-5e-helden-gesucht-1-3
 -in-der-kreativ-fabrik/
DTSTART:20190301T181500Z
DTSTAMP:20190301T181500Z
CREATED:20190301T181500Z
SUMMARY:D&D 5E - Helden gesucht - 1.3. in der Kreativ Fabrik
DESCRIPTION:Das Land ist jung und ungezähmt. Anders als zuhause. Aber zuhau
 se ist weit und lang weg. Monate - auf der anderen Seite des Meeres. Aber w
 as man nicht alles für Gold tut. Das schicksalhafte Schriftstück der Königi
 n hast du immer noch in der Hand.\n\n\n\n\nHelden gesucht !\n\nDie Schiffe 
 ihrer Majestät Beatrice Amelia haben in weiter Ferne Neuland gesichtet. Ges
 ucht werden Abenteurer\, Glücksritter\, Handwerker\, Farmer\, Arbeiter\, Jä
 ger und all jene\, die nach einem Neuanfang trachten. Eine jede Person\, di
 e bereit ist dieses Unterfangen im Namen der Königin zu unterstützen und Ar
 beit leistet wird Land und Eigentum zur Bestellung erhalten. Die Besiedlung
  wird nicht leicht\, Monster durchstreifen die neuen Lande und die Natur is
 t widerspenstig - doch alles Gold ist schwer. \n\nAll jene\, die Ehre und A
 benteuer in ihrem Herzen spüren: Die königlichen Schiffe warten \n\nLang le
 be die Königin und weit erblühe ihr Reich\n\nEs ist kalt und deine Füße sch
 merzen. Du bist nun schon einige Tage unterwegs. Der Trampelpfad endet und 
 die Gebäude der wenige Monate alten Stadt liegt vor dir. \"Marlenburg\". Du
  bist angekommen.\n\n\n--------------\nGespielt wird D&D 5E\, Stufe 1. Ich 
 werde Beispielcharaktere mitbringen\, aber es ist auch möglich selber einen
  Charakter zu bauen oder mitzubringen. Zugelassen sind alle Bücher von WotC
 \, sowie die Unearthed Arcana Kolumne.\nBeste Grüße\nMatze
LOCATION:Amendestraße 41\, 13409 Berlin\, Deutschland
GEO:52.5703888;13.3738003
DTEND:20190301T225900Z
CATEGORIES:D&D
END:VEVENT
END:VCALENDAR
