BEGIN:VCALENDAR
METHOD:PUBLISH
VERSION:2.0
PRODID:-//WoltLab GmbH//WoltLab Suite Calendar 5.4//EN
CALSCALE:GREGORIAN
X-WR-CALNAME;VALUE=TEXT:Dungeons & Dragons OneShot (offene Runde)
BEGIN:VEVENT
TRANSP:OPAQUE
UID:event-139@sonntagshelden.de
URL:https://sonntagshelden.de/calendar/event/2974-dungeons-dragons-oneshot-
 offene-runde/
DTSTART:20190201T180000Z
DTSTAMP:20190201T180000Z
CREATED:20190201T180000Z
SUMMARY:Dungeons & Dragons OneShot (offene Runde)
DESCRIPTION:Höret! Höret!\nDer hohe Magier Netheril sucht mutige und wacker
 e Abenteuerer\, die sich auf die Suche nach Taran\, dem Fürsten der Elfen\,
  in die ehemalige Feste Damaras begeben und bereit sind\, es mit Knochenkni
 rscher\, dem Oger\, aufzunehmen.\nJedem Abenteuerer\, gleich welchen Geschl
 echts\, welchen Glaubens\, welcher Profession und welcher Spezies\, der sic
 h an der Rettung Tarans beteiligt\, werden 100 Goldstücke gezahlt.\nWer tap
 fer genug ist\, diesem Aufruf Taten folgen zu lassen\, solle sich so schnel
 l als möglich zu Netheril begeben!\n\n\nWer möchte\, kann an dieser Spielru
 nde gern teilnehmen - mit oder ohne eigenen D&D-Charakter.\nBei Bedarf kann
  dieses Runde parallel zweimal angeboten werden.\n\nAußerdem ist diese Rund
 e ausdrücklich für Anfänger geeignet!
LOCATION:Amendestraße 41\, 13409 Berlin\, Deutschland
GEO:52.5703888;13.3738003
DTEND:20190201T225900Z
CATEGORIES:Rollenspiel,Öffentlich,Offene Runde,Oneshot,Dungeons and Dragons
 ,DungeonCrawl,Anfängerfreundlich
END:VEVENT
END:VCALENDAR
