BEGIN:VCALENDAR
METHOD:PUBLISH
VERSION:2.0
PRODID:-//WoltLab GmbH//WoltLab Suite Calendar 5.4//EN
CALSCALE:GREGORIAN
X-WR-CALNAME;VALUE=TEXT:Shadowrun (Anmeldung erbeten)
BEGIN:VEVENT
TRANSP:OPAQUE
UID:event-128@sonntagshelden.de
URL:https://sonntagshelden.de/calendar/event/2707-shadowrun-anmeldung-erbet
 en/
DTSTART:20190125T180000Z
DTSTAMP:20190125T180000Z
CREATED:20190125T180000Z
SUMMARY:Shadowrun (Anmeldung erbeten)
DESCRIPTION:Ich werde eine regelmäßige Shadowrun 5 Runde anbieten. Die Aben
 teuer werden in Deutschland stattfinden. Ich strebe eine Spieler Anzahl von
  3 bis 5 Leuten an. Die Runden sollen alle zwei Wochen statt finden.\n\nIch
  plane alle drei Ebenen ein zu beziehen.\nMatrix\nAstral\n\nIch werde in di
 eser Shadowrun Runden auch der Spielewelt entsprechend den Rassismus\, Life
 styl und die Machtverhältnisse der Konzerne darstellen.\n\nEs wäre schön we
 nn ihr euch auch Gedanken über die Backstory\, Charakterzüge\, Ziele und So
 zialen Umfeld machen würdet. Denn damit wirkt die Spielewelt lebendiger und
  macht mehr Spaß.^^\nIhr könnt natürlich auch selbst gebaute Charaktere mit
 bringen\, bloß ich müsste sie kurz mir angucken\, ob diese Charaktere nicht
  zu stark sind. Wenn eure selbst gebauten Charaktere auch den Standardregel
  oder Regel aus dem Buch \"Schattenläufer\" herstellt wurden sollten sie ke
 ine Probleme machen.\n\nIch werde auch mehrere vorgefertigte Charaktere mit
 bringen\, wenn jemand ohne Spielcharakter erscheint.
DTEND:20190125T225900Z
END:VEVENT
END:VCALENDAR
