BEGIN:VCALENDAR
METHOD:PUBLISH
VERSION:2.0
PRODID:-//WoltLab GmbH//WoltLab Suite Calendar 5.4//EN
CALSCALE:GREGORIAN
X-WR-CALNAME;VALUE=TEXT:Brettspielrunde
BEGIN:VEVENT
TRANSP:OPAQUE
UID:event-126@sonntagshelden.de
URL:https://sonntagshelden.de/calendar/event/2572-brettspielrunde/
DTSTART:20181228T180000Z
DTSTAMP:20181228T180000Z
CREATED:20181228T180000Z
SUMMARY:Brettspielrunde
DESCRIPTION:Brettspielrunde zum Jahresende \n\nJede_r bringt mit\, was gefä
 llt...\nIch versuche es nochmal mit\n* Smallworld\n* Mysterium\n... oder wa
 s auch immer mir auftragt\, aus meiner Spielesammlung (siehe Foto) mitzubri
 ngen...
LOCATION:Amendestr. 41
GEO:52.5169983;13.3999996
DTEND:20181228T223000Z
END:VEVENT
END:VCALENDAR
