BEGIN:VCALENDAR
METHOD:PUBLISH
VERSION:2.0
PRODID:-//WoltLab GmbH//WoltLab Suite Calendar 5.4//EN
CALSCALE:GREGORIAN
X-WR-CALNAME;VALUE=TEXT:Spielrunden zum StarWars-Tag
BEGIN:VEVENT
TRANSP:OPAQUE
UID:event-117@sonntagshelden.de
URL:https://sonntagshelden.de/calendar/event/2563-spielrunden-zum-starwars-
 tag/
DTSTART:20190504T120000Z
DTSTAMP:20190504T120000Z
CREATED:20190504T120000Z
SUMMARY:Spielrunden zum StarWars-Tag
DESCRIPTION:Willkommen zum alljährlichen StarWars-Tag - auch bei den Sonnta
 gHelden!\n\nAn diesem Tage wollen wir Euch mit mit allerlei Star Wars begei
 stern. <-o-> |-o-| <-o->\n\nAngeboten wird:\n\nAngebot\nBeginn\nSpielleiter
 \nSpielerplätze\nInfos\n\nStar Wars D6 RPG\n\n15 Uhr\n\nSøren\n3 - 5 Spiele
 r\n\n- eigene Charaktere können in einem vernünftigen Rahmen mitgebracht we
 rden\n- Template stehen zur Verfügung\n- diese Spielrunde ist auch für Anfä
 nger geeignet\n\n\nX-Wing Miniaturen-Spiel\n\njederzeit\nunbenötigt\n2 o. 4
  Spieler\n\n- es stehen unterschiedlich schwere und zeitaufwändige Spielmis
 sionen zur Verfügung\n\n\n\n\nIn diesem Sinne\,\nMay the Forth be with you:
 \ndie SonntagsHelden
LOCATION:Amendestraße 41\, 13409 Berlin\, Deutschland
GEO:52.5703888;13.3738003
DTEND:20190504T215900Z
CATEGORIES:SonntagsHelden,Rollenspiel,Spielrunden,May the Forth,StarWars-Ta
 g,Star Wars
END:VEVENT
END:VCALENDAR
