BEGIN:VCALENDAR
METHOD:PUBLISH
VERSION:2.0
PRODID:-//WoltLab GmbH//WoltLab Suite Calendar 5.4//EN
CALSCALE:GREGORIAN
X-WR-CALNAME;VALUE=TEXT:L5R-Anfängerabenteuer 5. Edition
BEGIN:VEVENT
TRANSP:OPAQUE
UID:event-106@sonntagshelden.de
URL:https://sonntagshelden.de/calendar/event/2425-l5r-anf%C3%A4ngerabenteue
 r-5-edition/
DTSTART:20181103T180000Z
DTSTAMP:20181103T180000Z
CREATED:20181103T180000Z
SUMMARY:L5R-Anfängerabenteuer 5. Edition
DTEND:20181103T220000Z
END:VEVENT
END:VCALENDAR
