BEGIN:VCALENDAR
METHOD:PUBLISH
VERSION:2.0
PRODID:-//WoltLab GmbH//WoltLab Suite Calendar 5.4//EN
CALSCALE:GREGORIAN
X-WR-CALNAME;VALUE=TEXT:Technik
BEGIN:VEVENT
TRANSP:TRANSPARENT
UID:event-2@sonntagshelden.de
URL:https://sonntagshelden.de/calendar/event/2-wartungsarbeiten-an-der-webs
 eite/
DTSTART;VALUE=DATE:20180116
DTSTAMP:20180116T000000Z
CREATED:20180116T000000Z
SUMMARY:Wartungsarbeiten an der Webseite
DESCRIPTION:Es werden Wartungsarbeiten an den Systemen vorgenommen\, es kan
 n zu Beeinträchtigungen in der Funktion kommen.
DTEND;VALUE=DATE:20180119
END:VEVENT
BEGIN:VEVENT
TRANSP:TRANSPARENT
UID:event-7@sonntagshelden.de
URL:https://sonntagshelden.de/calendar/event/7-abschaltung-der-alten-seite/
DTSTART;VALUE=DATE:20180228
DTSTAMP:20180228T000000Z
CREATED:20180228T000000Z
SUMMARY:Abschaltung der alten Seite
DESCRIPTION:Die alte Seite wird am letzten Tag dieses Termins unwiederbring
 lich abgeschaltet\, bitte sorgt dafür\, dass Eure Inhalte übertragen sind.\
 n\nhttps://old.sonntagshelden.de
DTEND;VALUE=DATE:20180301
END:VEVENT
BEGIN:VEVENT
TRANSP:OPAQUE
UID:event-334@sonntagshelden.de
URL:https://sonntagshelden.de/calendar/event/4933-wartungsarbeiten-am-serve
 r-seite-nicht-erreichbar/
DTSTART:20200414T230000Z
DTSTAMP:20200414T230000Z
CREATED:20200414T230000Z
SUMMARY:Wartungsarbeiten am Server - Seite nicht erreichbar
DESCRIPTION:Die Umstellung erfolgt am: 15.04.2020 ab 01:00 Uhr nachts.\nFür
  eine Zeit von voraussichtlich 2-6 Stunden.
DTEND:20200415T040000Z
END:VEVENT
BEGIN:VEVENT
TRANSP:TRANSPARENT
UID:event-456@sonntagshelden.de
URL:https://sonntagshelden.de/calendar/event/9959-l%C3%B6schung-filebase-un
 d-lexikon-update-auf-neueste-forenversion/
DTSTART;VALUE=DATE:20210921
DTSTAMP:20210921T000000Z
CREATED:20210921T000000Z
SUMMARY:Löschung Filebase und Lexikon & Update auf neueste Forenversion
DESCRIPTION:Weitere Informationen im Beitrag:\n\nEntfernung der Filebase un
 d des Lexikons & Update auf aktuellste Systemversion - SonntagsHelden\, die
  Community - SonntagsHelden - Deine Rollenspiel Gemeinschaft aus Berlin [UR
 L:https://sonntagshelden.de/forum/thread/579-entfernung-der-filebase-und-de
 s-lexikons-update-auf-aktuellste-systemversion/?postID=6815#post6815]
DTEND;VALUE=DATE:20210922
END:VEVENT
BEGIN:VEVENT
TRANSP:OPAQUE
UID:event-458@sonntagshelden.de
URL:https://sonntagshelden.de/calendar/event/9961-wartungsarbeiten-serverum
 zug/
DTSTART:20210916T000000Z
DTSTAMP:20210916T000000Z
CREATED:20210916T000000Z
SUMMARY:Wartungsarbeiten / Serverumzug
DTEND:20210916T070000Z
END:VEVENT
END:VCALENDAR
